BEGIN:VCALENDAR
VERSION:2.0
CALSCALE:GREGORIAN
PRODID:-//WordPress//RSVPMaker//EN
METHOD:REQUEST
BEGIN:VEVENT
DTSTAMP:20260422T220505Z
UID:E4971735E71B7C924D2F5AEF6F5A7334@rsvpmaker.com
SEQUENCE:0
STATUS:CONFIRMED
DTSTART:20240925T210000Z
DTEND:20240925T220000Z
LOCATION:See\: https\://ortegariverclub.net/rsvpmaker/dinner-at-the-ri
 ver-and-line-dancing-2024-09-25/
SUMMARY:Dinner at the River and Line Dancing
DESCRIPTION:Event info\: https\://ortegariverclub.net/rsvpmaker/dinner
 -at-the-river-and-line-dancing-2024-09-25/
END:VEVENT
END:VCALENDAR