BEGIN:VCALENDAR
VERSION:2.0
CALSCALE:GREGORIAN
PRODID:-//WordPress//RSVPMaker//EN
METHOD:REQUEST
BEGIN:VEVENT
DTSTAMP:20260421T172348Z
UID:B449151EB61E7FDFFC88095F40059AC3@rsvpmaker.com
SEQUENCE:0
STATUS:CONFIRMED
DTSTART:20210120T220000Z
DTEND:20210120T230000Z
LOCATION:See\: https\://ortegariverclub.net/rsvpmaker/dinner-at-the-ri
 ver-and-line-dancing-2021-01-20/
SUMMARY:A Taste of Spain at the River and Line Dancing
DESCRIPTION:Event info\: https\://ortegariverclub.net/rsvpmaker/dinner
 -at-the-river-and-line-dancing-2021-01-20/
END:VEVENT
END:VCALENDAR