BEGIN:VCALENDAR
VERSION:2.0
CALSCALE:GREGORIAN
PRODID:-//WordPress//RSVPMaker//EN
METHOD:REQUEST
BEGIN:VEVENT
DTSTAMP:20260421T075747Z
UID:AA8CB12CF9BDAF4C309614E7A427B480@rsvpmaker.com
SEQUENCE:0
STATUS:CONFIRMED
DTSTART:20200722T210000Z
DTEND:20200722T220000Z
LOCATION:See\: https\://ortegariverclub.net/rsvpmaker/dinner-at-the-ri
 ver-and-line-dancing-2020-07-22/
SUMMARY:Herb Roasted Chicken Dinner at the River and Line Dancing
DESCRIPTION:Event info\: https\://ortegariverclub.net/rsvpmaker/dinner
 -at-the-river-and-line-dancing-2020-07-22/
END:VEVENT
END:VCALENDAR