BEGIN:VCALENDAR
VERSION:2.0
CALSCALE:GREGORIAN
PRODID:-//WordPress//RSVPMaker//EN
METHOD:REQUEST
BEGIN:VEVENT
DTSTAMP:20260420T142544Z
UID:722781A5A8AE3821134D814887982635@rsvpmaker.com
SEQUENCE:0
STATUS:CONFIRMED
DTSTART:20250404T210000Z
DTEND:20250404T220000Z
LOCATION:See\: https\://ortegariverclub.net/rsvpmaker/country-night-wi
 th-music-and-dance-by-natalie-and-stuart-palmer-2025-04-04/
SUMMARY:Country Night with Music and Dance by Natalie and Stuart Palme
 r
DESCRIPTION:Event info\: https\://ortegariverclub.net/rsvpmaker/countr
 y-night-with-music-and-dance-by-natalie-and-stuart-palmer-2025-04-04/
END:VEVENT
END:VCALENDAR