BEGIN:VCALENDAR
VERSION:2.0
CALSCALE:GREGORIAN
PRODID:-//WordPress//RSVPMaker//EN
METHOD:REQUEST
BEGIN:VEVENT
DTSTAMP:20260420T160112Z
UID:BD988B0E7B1FDFEB2F7F883FD067887B@rsvpmaker.com
SEQUENCE:0
STATUS:CONFIRMED
DTSTART:20250207T220000Z
DTEND:20250207T230000Z
LOCATION:See\: https\://ortegariverclub.net/rsvpmaker/country-night-wi
 th-music-and-dance-by-natalie-and-stuart-palmer-2025-02-07/
SUMMARY:Country Night with Music and Dance by Natalie and Stuart Palme
 r
DESCRIPTION:Event info\: https\://ortegariverclub.net/rsvpmaker/countr
 y-night-with-music-and-dance-by-natalie-and-stuart-palmer-2025-02-07/
END:VEVENT
END:VCALENDAR