BEGIN:VCALENDAR
VERSION:2.0
CALSCALE:GREGORIAN
PRODID:-//WordPress//RSVPMaker//EN
METHOD:REQUEST
BEGIN:VEVENT
DTSTAMP:20260421T090618Z
UID:7E8BC77312D6DFDD73CD283AD31A3444@rsvpmaker.com
SEQUENCE:0
STATUS:CONFIRMED
DTSTART:20250103T220000Z
DTEND:20250103T230000Z
LOCATION:See\: https\://ortegariverclub.net/rsvpmaker/country-night-an
 d-grill-night-with-music-and-dance-by-natalie-and-stuart-palmer-2025-0
 1-03/
SUMMARY:Country Night with Music and Dance by Natalie and Stuart Palme
 r
DESCRIPTION:Event info\: https\://ortegariverclub.net/rsvpmaker/countr
 y-night-and-grill-night-with-music-and-dance-by-natalie-and-stuart-pal
 mer-2025-01-03/
END:VEVENT
END:VCALENDAR