BEGIN:VCALENDAR
VERSION:2.0
CALSCALE:GREGORIAN
PRODID:-//WordPress//RSVPMaker//EN
METHOD:REQUEST
BEGIN:VEVENT
DTSTAMP:20260422T125610Z
UID:5B8C48ED0E21E38E1DCF27A0DB6F23DC@rsvpmaker.com
SEQUENCE:0
STATUS:CONFIRMED
DTSTART:20241101T210000Z
DTEND:20241101T220000Z
LOCATION:See\: https\://ortegariverclub.net/rsvpmaker/country-night-an
 d-grill-night-with-music-and-dance-by-natalie-and-stuart-palmer-2024-1
 1-01/
SUMMARY:Country Night with Music and Dance by Natalie and Stuart Palme
 r
DESCRIPTION:Event info\: https\://ortegariverclub.net/rsvpmaker/countr
 y-night-and-grill-night-with-music-and-dance-by-natalie-and-stuart-pal
 mer-2024-11-01/
END:VEVENT
END:VCALENDAR