BEGIN:VCALENDAR
VERSION:2.0
CALSCALE:GREGORIAN
PRODID:-//WordPress//RSVPMaker//EN
METHOD:REQUEST
BEGIN:VEVENT
DTSTAMP:20260422T164117Z
UID:BC0C06456B3C6D29ACF100C89EE9B1D3@rsvpmaker.com
SEQUENCE:0
STATUS:CONFIRMED
DTSTART:20240906T210000Z
DTEND:20240906T220000Z
LOCATION:See\: https\://ortegariverclub.net/rsvpmaker/country-night-an
 d-grill-night-with-music-and-dance-by-natalie-and-stuart-palmer-2024-0
 9-06/
SUMMARY:Country Night with Music and Dance by Natalie and Stuart Palme
 r
DESCRIPTION:Event info\: https\://ortegariverclub.net/rsvpmaker/countr
 y-night-and-grill-night-with-music-and-dance-by-natalie-and-stuart-pal
 mer-2024-09-06/
END:VEVENT
END:VCALENDAR