BEGIN:VCALENDAR
VERSION:2.0
CALSCALE:GREGORIAN
PRODID:-//WordPress//RSVPMaker//EN
METHOD:REQUEST
BEGIN:VEVENT
DTSTAMP:20260423T001918Z
UID:70386B1A05D9528EE02B3D56E5ED479F@rsvpmaker.com
SEQUENCE:0
STATUS:CONFIRMED
DTSTART:20240503T210000Z
DTEND:20240503T220000Z
LOCATION:See\: https\://ortegariverclub.net/rsvpmaker/country-night-an
 d-grill-night-with-music-and-dance-by-natalie-and-stuart-palmer-2024-0
 5-03/
SUMMARY:Country Night with Music and Dance by Natalie and Stuart Palme
 r
DESCRIPTION:Event info\: https\://ortegariverclub.net/rsvpmaker/countr
 y-night-and-grill-night-with-music-and-dance-by-natalie-and-stuart-pal
 mer-2024-05-03/
END:VEVENT
END:VCALENDAR