BEGIN:VCALENDAR
VERSION:2.0
CALSCALE:GREGORIAN
PRODID:-//WordPress//RSVPMaker//EN
METHOD:REQUEST
BEGIN:VEVENT
DTSTAMP:20260420T124652Z
UID:1876AF03CDC28F1B1D02014A0B91A7C9@rsvpmaker.com
SEQUENCE:0
STATUS:CONFIRMED
DTSTART:20250913T213000Z
DTEND:20250913T230000Z
LOCATION:See\: https\://ortegariverclub.net/rsvpmaker/country-and-swin
 g-dance-2025-09-13/
SUMMARY:Country and Swing Dance
DESCRIPTION:Event info\: https\://ortegariverclub.net/rsvpmaker/countr
 y-and-swing-dance-2025-09-13/
END:VEVENT
END:VCALENDAR