BEGIN:VCALENDAR
VERSION:2.0
CALSCALE:GREGORIAN
PRODID:-//WordPress//RSVPMaker//EN
METHOD:REQUEST
BEGIN:VEVENT
DTSTAMP:20260420T173429Z
UID:F8CD71B7B469F15BD03947F8493A7259@rsvpmaker.com
SEQUENCE:0
STATUS:CONFIRMED
DTSTART:20250111T230000Z
DTEND:20250112T000000Z
LOCATION:See\: https\://ortegariverclub.net/rsvpmaker/country-and-swin
 g-dance-2025-01-11/
SUMMARY:Country and Swing Dance
DESCRIPTION:Event info\: https\://ortegariverclub.net/rsvpmaker/countr
 y-and-swing-dance-2025-01-11/
END:VEVENT
END:VCALENDAR