BEGIN:VCALENDAR
VERSION:2.0
CALSCALE:GREGORIAN
PRODID:-//WordPress//RSVPMaker//EN
METHOD:REQUEST
BEGIN:VEVENT
DTSTAMP:20260419T115330Z
UID:FC8D5986A039EA16ECFD79AC1C20A0B1@rsvpmaker.com
SEQUENCE:0
STATUS:CONFIRMED
DTSTART:20250530T230000Z
DTEND:20250531T000000Z
LOCATION:See\: https\://ortegariverclub.net/rsvpmaker/cocktails-and-ta
 ke-out-at-the-club-2025-05-30/
SUMMARY:Cocktails and Take Out at the Club
DESCRIPTION:Event info\: https\://ortegariverclub.net/rsvpmaker/cockta
 ils-and-take-out-at-the-club-2025-05-30/
END:VEVENT
END:VCALENDAR