BEGIN:VCALENDAR
VERSION:2.0
CALSCALE:GREGORIAN
PRODID:-//WordPress//RSVPMaker//EN
METHOD:REQUEST
BEGIN:VEVENT
DTSTAMP:20260421T090658Z
UID:6705D77F2D837E528FB0EDD21579E9C0@rsvpmaker.com
SEQUENCE:0
STATUS:CONFIRMED
DTSTART:20250503T230000Z
DTEND:20250504T000000Z
LOCATION:See\: https\://ortegariverclub.net/rsvpmaker/club-closed-priv
 ate-party-2025-05-03/
SUMMARY:Club Closed Private Party
DESCRIPTION:Event info\: https\://ortegariverclub.net/rsvpmaker/club-c
 losed-private-party-2025-05-03/
END:VEVENT
END:VCALENDAR