BEGIN:VCALENDAR
VERSION:2.0
CALSCALE:GREGORIAN
PRODID:-//WordPress//RSVPMaker//EN
METHOD:REQUEST
BEGIN:VEVENT
DTSTAMP:20260420T173551Z
UID:EAD316E44CC96EF5F2397CA7CCEABA82@rsvpmaker.com
SEQUENCE:0
STATUS:CONFIRMED
DTSTART:20250223T000000Z
DTEND:20250223T010000Z
LOCATION:See\: https\://ortegariverclub.net/rsvpmaker/club-closed-priv
 ate-party-2025-02-22/
SUMMARY:Club Closed Private Party
DESCRIPTION:Event info\: https\://ortegariverclub.net/rsvpmaker/club-c
 losed-private-party-2025-02-22/
END:VEVENT
END:VCALENDAR