BEGIN:VCALENDAR
VERSION:2.0
CALSCALE:GREGORIAN
PRODID:-//WordPress//RSVPMaker//EN
METHOD:REQUEST
BEGIN:VEVENT
DTSTAMP:20260422T125049Z
UID:ABCD43EEE9C9F6BCE781261953BAD742@rsvpmaker.com
SEQUENCE:0
STATUS:CONFIRMED
DTSTART:20241222T000000Z
DTEND:20241222T010000Z
LOCATION:See\: https\://ortegariverclub.net/rsvpmaker/club-closed-priv
 ate-party-2024-12-21/
SUMMARY:Club Closed Private Party
DESCRIPTION:Event info\: https\://ortegariverclub.net/rsvpmaker/club-c
 losed-private-party-2024-12-21/
END:VEVENT
END:VCALENDAR