BEGIN:VCALENDAR
VERSION:2.0
CALSCALE:GREGORIAN
PRODID:-//WordPress//RSVPMaker//EN
METHOD:REQUEST
BEGIN:VEVENT
DTSTAMP:20260422T125050Z
UID:115BC51524F29CA721174801DF38A2A8@rsvpmaker.com
SEQUENCE:0
STATUS:CONFIRMED
DTSTART:20241102T160000Z
DTEND:20241103T030000Z
LOCATION:See\: https\://ortegariverclub.net/rsvpmaker/club-closed-priv
 ate-party-2024-11-02/
SUMMARY:Club Closed Private Party
DESCRIPTION:Event info\: https\://ortegariverclub.net/rsvpmaker/club-c
 losed-private-party-2024-11-02/
END:VEVENT
END:VCALENDAR