BEGIN:VCALENDAR
VERSION:2.0
CALSCALE:GREGORIAN
PRODID:-//WordPress//RSVPMaker//EN
METHOD:REQUEST
BEGIN:VEVENT
DTSTAMP:20260423T020700Z
UID:7B75A9A9404959D96C63D1F61EC75550@rsvpmaker.com
SEQUENCE:0
STATUS:CONFIRMED
DTSTART:20240505T170000Z
DTEND:20240506T030000Z
LOCATION:See\: https\://ortegariverclub.net/rsvpmaker/club-closed-priv
 ate-party-2024-05-05/
SUMMARY:Club Closed Private Party
DESCRIPTION:Event info\: https\://ortegariverclub.net/rsvpmaker/club-c
 losed-private-party-2024-05-05/
END:VEVENT
END:VCALENDAR