BEGIN:VCALENDAR
VERSION:2.0
CALSCALE:GREGORIAN
PRODID:-//WordPress//RSVPMaker//EN
METHOD:REQUEST
BEGIN:VEVENT
DTSTAMP:20260422T120510Z
UID:700245D5D74A2D96233EF12D337DF736@rsvpmaker.com
SEQUENCE:0
STATUS:CONFIRMED
DTSTART:20270227T230000Z
DTEND:20270228T000000Z
LOCATION:See\: https\://ortegariverclub.net/rsvpmaker/club-closed-for-
 wedding-2027-02-27/
SUMMARY:Club Closed For Wedding
DESCRIPTION:Event info\: https\://ortegariverclub.net/rsvpmaker/club-c
 losed-for-wedding-2027-02-27/
END:VEVENT
END:VCALENDAR