BEGIN:VCALENDAR
VERSION:2.0
CALSCALE:GREGORIAN
PRODID:-//WordPress//RSVPMaker//EN
METHOD:REQUEST
BEGIN:VEVENT
DTSTAMP:20260420T122844Z
UID:3CCE7DF3FE2FD70BD214726F58D08FA4@rsvpmaker.com
SEQUENCE:0
STATUS:CONFIRMED
DTSTART:20250412T220000Z
DTEND:20250412T230000Z
LOCATION:See\: https\://ortegariverclub.net/rsvpmaker/club-closed-for-
 wedding-2025-04-12-2/
SUMMARY:Club Closed For Wedding
DESCRIPTION:Event info\: https\://ortegariverclub.net/rsvpmaker/club-c
 losed-for-wedding-2025-04-12-2/
END:VEVENT
END:VCALENDAR