BEGIN:VCALENDAR
VERSION:2.0
CALSCALE:GREGORIAN
PRODID:-//WordPress//RSVPMaker//EN
METHOD:REQUEST
BEGIN:VEVENT
DTSTAMP:20260420T141926Z
UID:44EF8F51D6922AE69D4999D50B632334@rsvpmaker.com
SEQUENCE:0
STATUS:CONFIRMED
DTSTART:20250301T230000Z
DTEND:20250302T000000Z
LOCATION:See\: https\://ortegariverclub.net/rsvpmaker/club-closed-for-
 wedding-2025-03-01/
SUMMARY:Club Closed For Wedding
DESCRIPTION:Event info\: https\://ortegariverclub.net/rsvpmaker/club-c
 losed-for-wedding-2025-03-01/
END:VEVENT
END:VCALENDAR