BEGIN:VCALENDAR
VERSION:2.0
CALSCALE:GREGORIAN
PRODID:-//WordPress//RSVPMaker//EN
METHOD:REQUEST
BEGIN:VEVENT
DTSTAMP:20260422T144552Z
UID:A1950012395742FD71F4FDD4CBA9414E@rsvpmaker.com
SEQUENCE:0
STATUS:CONFIRMED
DTSTART:20241109T230000Z
DTEND:20241110T000000Z
LOCATION:See\: https\://ortegariverclub.net/rsvpmaker/club-closed-for-
 wedding-2024-11-09/
SUMMARY:Club Closed For Wedding
DESCRIPTION:Event info\: https\://ortegariverclub.net/rsvpmaker/club-c
 losed-for-wedding-2024-11-09/
END:VEVENT
END:VCALENDAR