BEGIN:VCALENDAR
VERSION:2.0
CALSCALE:GREGORIAN
PRODID:-//WordPress//RSVPMaker//EN
METHOD:REQUEST
BEGIN:VEVENT
DTSTAMP:20260423T020517Z
UID:0460C5723B287202CF850B7AE996F03E@rsvpmaker.com
SEQUENCE:0
STATUS:CONFIRMED
DTSTART:20240519T170000Z
DTEND:20240520T030000Z
LOCATION:See\: https\://ortegariverclub.net/rsvpmaker/club-closed-for-
 wedding-2024-05-19/
SUMMARY:Club Closed For Wedding
DESCRIPTION:Event info\: https\://ortegariverclub.net/rsvpmaker/club-c
 losed-for-wedding-2024-05-19/
END:VEVENT
END:VCALENDAR