BEGIN:VCALENDAR
VERSION:2.0
CALSCALE:GREGORIAN
PRODID:-//WordPress//RSVPMaker//EN
METHOD:REQUEST
BEGIN:VEVENT
DTSTAMP:20260420T173551Z
UID:005B0C27E7224DABB8C1C7346CEEA228@rsvpmaker.com
SEQUENCE:0
STATUS:CONFIRMED
DTSTART:20250101T220000Z
DTEND:20250101T230000Z
LOCATION:See\: https\://ortegariverclub.net/rsvpmaker/club-closed-for-
 holiday-2025-01-01/
SUMMARY:Club Closed For Holiday
DESCRIPTION:Event info\: https\://ortegariverclub.net/rsvpmaker/club-c
 losed-for-holiday-2025-01-01/
END:VEVENT
END:VCALENDAR