BEGIN:VCALENDAR
VERSION:2.0
CALSCALE:GREGORIAN
PRODID:-//WordPress//RSVPMaker//EN
METHOD:REQUEST
BEGIN:VEVENT
DTSTAMP:20260422T125137Z
UID:F04FFA2CAF8ACC39B74A8383C3213AA6@rsvpmaker.com
SEQUENCE:0
STATUS:CONFIRMED
DTSTART:20241230T220000Z
DTEND:20241230T230000Z
LOCATION:See\: https\://ortegariverclub.net/rsvpmaker/club-closed-for-
 holiday-2024-12-30/
SUMMARY:Club Closed For Holiday
DESCRIPTION:Event info\: https\://ortegariverclub.net/rsvpmaker/club-c
 losed-for-holiday-2024-12-30/
END:VEVENT
END:VCALENDAR