BEGIN:VCALENDAR
VERSION:2.0
CALSCALE:GREGORIAN
PRODID:-//WordPress//RSVPMaker//EN
METHOD:REQUEST
BEGIN:VEVENT
DTSTAMP:20260422T125137Z
UID:4882AB9F0909835C444FB6D4CE6D56F0@rsvpmaker.com
SEQUENCE:0
STATUS:CONFIRMED
DTSTART:20241228T220000Z
DTEND:20241228T230000Z
LOCATION:See\: https\://ortegariverclub.net/rsvpmaker/club-closed-for-
 holiday-2024-12-28/
SUMMARY:Club Closed For Holiday
DESCRIPTION:Event info\: https\://ortegariverclub.net/rsvpmaker/club-c
 losed-for-holiday-2024-12-28/
END:VEVENT
END:VCALENDAR