BEGIN:VCALENDAR
VERSION:2.0
CALSCALE:GREGORIAN
PRODID:-//WordPress//RSVPMaker//EN
METHOD:REQUEST
BEGIN:VEVENT
DTSTAMP:20260423T184744Z
UID:BAD245E5C06461BFD1E49B4A03FCF441@rsvpmaker.com
SEQUENCE:0
STATUS:CONFIRMED
DTSTART:20241227T220000Z
DTEND:20241227T230000Z
LOCATION:See\: https\://ortegariverclub.net/rsvpmaker/club-closed-for-
 holiday-2024-12-27/
SUMMARY:Club Closed For Holiday
DESCRIPTION:Event info\: https\://ortegariverclub.net/rsvpmaker/club-c
 losed-for-holiday-2024-12-27/
END:VEVENT
END:VCALENDAR