BEGIN:VCALENDAR
VERSION:2.0
CALSCALE:GREGORIAN
PRODID:-//WordPress//RSVPMaker//EN
METHOD:REQUEST
BEGIN:VEVENT
DTSTAMP:20260422T215518Z
UID:95E38E97A6E3AE6C4098033E4D83ABF9@rsvpmaker.com
SEQUENCE:0
STATUS:CONFIRMED
DTSTART:20241225T220000Z
DTEND:20241225T230000Z
LOCATION:See\: https\://ortegariverclub.net/rsvpmaker/club-closed-for-
 holiday-2024-12-25/
SUMMARY:Club Closed For Holiday
DESCRIPTION:Event info\: https\://ortegariverclub.net/rsvpmaker/club-c
 losed-for-holiday-2024-12-25/
END:VEVENT
END:VCALENDAR