BEGIN:VCALENDAR
VERSION:2.0
CALSCALE:GREGORIAN
PRODID:-//WordPress//RSVPMaker//EN
METHOD:REQUEST
BEGIN:VEVENT
DTSTAMP:20260422T125158Z
UID:1700002D4C70CBF14D54658D280CB88E@rsvpmaker.com
SEQUENCE:0
STATUS:CONFIRMED
DTSTART:20241224T220000Z
DTEND:20241224T230000Z
LOCATION:See\: https\://ortegariverclub.net/rsvpmaker/club-closed-for-
 holiday-2024-12-24/
SUMMARY:Club Closed For Holiday
DESCRIPTION:Event info\: https\://ortegariverclub.net/rsvpmaker/club-c
 losed-for-holiday-2024-12-24/
END:VEVENT
END:VCALENDAR