BEGIN:VCALENDAR
VERSION:2.0
CALSCALE:GREGORIAN
PRODID:-//WordPress//RSVPMaker//EN
METHOD:REQUEST
BEGIN:VEVENT
DTSTAMP:20260422T144700Z
UID:25CD125F8916019A9D5909D771FDEF61@rsvpmaker.com
SEQUENCE:0
STATUS:CONFIRMED
DTSTART:20241129T220000Z
DTEND:20241129T230000Z
LOCATION:See\: https\://ortegariverclub.net/rsvpmaker/club-closed-for-
 holiday-2024-11-29/
SUMMARY:Club Closed For Holiday
DESCRIPTION:Event info\: https\://ortegariverclub.net/rsvpmaker/club-c
 losed-for-holiday-2024-11-29/
END:VEVENT
END:VCALENDAR