BEGIN:VCALENDAR
VERSION:2.0
CALSCALE:GREGORIAN
PRODID:-//WordPress//RSVPMaker//EN
METHOD:REQUEST
BEGIN:VEVENT
DTSTAMP:20260422T144700Z
UID:84543EF19503939D36BF0CDA6D512FFD@rsvpmaker.com
SEQUENCE:0
STATUS:CONFIRMED
DTSTART:20241128T220000Z
DTEND:20241128T230000Z
LOCATION:See\: https\://ortegariverclub.net/rsvpmaker/club-closed-for-
 holiday-2024-11-28/
SUMMARY:Club Closed For Holiday
DESCRIPTION:Event info\: https\://ortegariverclub.net/rsvpmaker/club-c
 losed-for-holiday-2024-11-28/
END:VEVENT
END:VCALENDAR