BEGIN:VCALENDAR
VERSION:2.0
CALSCALE:GREGORIAN
PRODID:-//WordPress//RSVPMaker//EN
METHOD:REQUEST
BEGIN:VEVENT
DTSTAMP:20260422T144726Z
UID:D3102A0B7413AA55427210BBD83624B4@rsvpmaker.com
SEQUENCE:0
STATUS:CONFIRMED
DTSTART:20241127T220000Z
DTEND:20241127T230000Z
LOCATION:See\: https\://ortegariverclub.net/rsvpmaker/club-closed-for-
 holiday-2024-11-27/
SUMMARY:Club Closed For Holiday
DESCRIPTION:Event info\: https\://ortegariverclub.net/rsvpmaker/club-c
 losed-for-holiday-2024-11-27/
END:VEVENT
END:VCALENDAR