BEGIN:VCALENDAR
VERSION:2.0
CALSCALE:GREGORIAN
PRODID:-//WordPress//RSVPMaker//EN
METHOD:REQUEST
BEGIN:VEVENT
DTSTAMP:20260422T110425Z
UID:357EEF2143CFB46C8D49017EBD7689B5@rsvpmaker.com
SEQUENCE:0
STATUS:CONFIRMED
DTSTART:20241207T170000Z
DTEND:20241207T220000Z
LOCATION:See\: https\://ortegariverclub.net/rsvpmaker/club-closed-for-
 avondale-dance-winter-showcase-2024-12-07/
SUMMARY:Club Closed for Avondale Dance Winter Showcase
DESCRIPTION:Event info\: https\://ortegariverclub.net/rsvpmaker/club-c
 losed-for-avondale-dance-winter-showcase-2024-12-07/
END:VEVENT
END:VCALENDAR