BEGIN:VCALENDAR
VERSION:2.0
CALSCALE:GREGORIAN
PRODID:-//WordPress//RSVPMaker//EN
METHOD:REQUEST
BEGIN:VEVENT
DTSTAMP:20260422T110217Z
UID:FDE673A94858CAAADB505AB52C682786@rsvpmaker.com
SEQUENCE:0
STATUS:CONFIRMED
DTSTART:20250121T220000Z
DTEND:20250121T230000Z
LOCATION:See\: https\://ortegariverclub.net/rsvpmaker/club-closed-due-
 to-weather-2025-01-21/
SUMMARY:Club Closed Due to Weather
DESCRIPTION:Event info\: https\://ortegariverclub.net/rsvpmaker/club-c
 losed-due-to-weather-2025-01-21/
END:VEVENT
END:VCALENDAR