BEGIN:VCALENDAR
VERSION:2.0
CALSCALE:GREGORIAN
PRODID:-//WordPress//RSVPMaker//EN
METHOD:REQUEST
BEGIN:VEVENT
DTSTAMP:20260422T144933Z
UID:8FD67F6517BA75E90F1491C11B758A77@rsvpmaker.com
SEQUENCE:0
STATUS:CONFIRMED
DTSTART:20241011T210000Z
DTEND:20241011T220000Z
LOCATION:See\: https\://ortegariverclub.net/rsvpmaker/club-closed-due-
 to-weather-2024-10-11/
SUMMARY:Club Closed Due to Weather
DESCRIPTION:Event info\: https\://ortegariverclub.net/rsvpmaker/club-c
 losed-due-to-weather-2024-10-11/
END:VEVENT
END:VCALENDAR