BEGIN:VCALENDAR
VERSION:2.0
CALSCALE:GREGORIAN
PRODID:-//WordPress//RSVPMaker//EN
METHOD:REQUEST
BEGIN:VEVENT
DTSTAMP:20260422T163214Z
UID:B57909E1DC7B22FF683A5A23DC239683@rsvpmaker.com
SEQUENCE:0
STATUS:CONFIRMED
DTSTART:20241010T210000Z
DTEND:20241010T220000Z
LOCATION:See\: https\://ortegariverclub.net/rsvpmaker/club-closed-due-
 to-weather-2024-10-10/
SUMMARY:Club Closed Due to Weather
DESCRIPTION:Event info\: https\://ortegariverclub.net/rsvpmaker/club-c
 losed-due-to-weather-2024-10-10/
END:VEVENT
END:VCALENDAR