BEGIN:VCALENDAR
VERSION:2.0
CALSCALE:GREGORIAN
PRODID:-//WordPress//RSVPMaker//EN
METHOD:REQUEST
BEGIN:VEVENT
DTSTAMP:20260422T163322Z
UID:91BE2A74DCE26A87BA9F8CE13564234A@rsvpmaker.com
SEQUENCE:0
STATUS:CONFIRMED
DTSTART:20241009T210000Z
DTEND:20241009T220000Z
LOCATION:See\: https\://ortegariverclub.net/rsvpmaker/club-closed-due-
 to-weather-2024-10-09/
SUMMARY:Club Closed Due to Weather
DESCRIPTION:Event info\: https\://ortegariverclub.net/rsvpmaker/club-c
 losed-due-to-weather-2024-10-09/
END:VEVENT
END:VCALENDAR