BEGIN:VCALENDAR
VERSION:2.0
CALSCALE:GREGORIAN
PRODID:-//WordPress//RSVPMaker//EN
METHOD:REQUEST
BEGIN:VEVENT
DTSTAMP:20260420T085328Z
UID:BAB82E00570D17A1FE3DCAD7DABFF3EB@rsvpmaker.com
SEQUENCE:0
STATUS:CONFIRMED
DTSTART:20250629T210000Z
DTEND:20250629T220000Z
LOCATION:See\: https\://ortegariverclub.net/rsvpmaker/club-closed-2025
 -06-29/
SUMMARY:Club Closed
DESCRIPTION:Event info\: https\://ortegariverclub.net/rsvpmaker/club-c
 losed-2025-06-29/
END:VEVENT
END:VCALENDAR