BEGIN:VCALENDAR
VERSION:2.0
CALSCALE:GREGORIAN
PRODID:-//WordPress//RSVPMaker//EN
METHOD:REQUEST
BEGIN:VEVENT
DTSTAMP:20260420T155453Z
UID:786D54B10805CDB475D07522426292CC@rsvpmaker.com
SEQUENCE:0
STATUS:CONFIRMED
DTSTART:20250303T220000Z
DTEND:20250303T230000Z
LOCATION:See\: https\://ortegariverclub.net/rsvpmaker/club-closed-2025
 -03-03/
SUMMARY:Club Closed
DESCRIPTION:Event info\: https\://ortegariverclub.net/rsvpmaker/club-c
 losed-2025-03-03/
END:VEVENT
END:VCALENDAR