BEGIN:VCALENDAR
VERSION:2.0
CALSCALE:GREGORIAN
PRODID:-//WordPress//RSVPMaker//EN
METHOD:REQUEST
BEGIN:VEVENT
DTSTAMP:20260422T091449Z
UID:D996E31032E7C288D7E20E7B82221C20@rsvpmaker.com
SEQUENCE:0
STATUS:CONFIRMED
DTSTART:20250102T220000Z
DTEND:20250102T230000Z
LOCATION:See\: https\://ortegariverclub.net/rsvpmaker/club-closed-2025
 -01-02/
SUMMARY:Club Closed
DESCRIPTION:Event info\: https\://ortegariverclub.net/rsvpmaker/club-c
 losed-2025-01-02/
END:VEVENT
END:VCALENDAR