BEGIN:VCALENDAR
VERSION:2.0
CALSCALE:GREGORIAN
PRODID:-//WordPress//RSVPMaker//EN
METHOD:REQUEST
BEGIN:VEVENT
DTSTAMP:20260422T111400Z
UID:575DC1140C7F125454530F5541B003E1@rsvpmaker.com
SEQUENCE:0
STATUS:CONFIRMED
DTSTART:20200403T210000Z
DTEND:20200403T220000Z
LOCATION:See\: https\://ortegariverclub.net/rsvpmaker/club-closed-2020
 -04-03/
SUMMARY:Club Closed
DESCRIPTION:Event info\: https\://ortegariverclub.net/rsvpmaker/club-c
 losed-2020-04-03/
END:VEVENT
END:VCALENDAR