BEGIN:VCALENDAR
VERSION:2.0
CALSCALE:GREGORIAN
PRODID:-//WordPress//RSVPMaker//EN
METHOD:REQUEST
BEGIN:VEVENT
DTSTAMP:20260420T191451Z
UID:B3DF435F52BE5287D9ACE3B28E2DCAC9@rsvpmaker.com
SEQUENCE:0
STATUS:CONFIRMED
DTSTART:20250118T233000Z
DTEND:20250119T003000Z
LOCATION:See\: https\://ortegariverclub.net/rsvpmaker/cloud-9-band-dan
 ce-2025-01-18/
SUMMARY:Cloud 9 Band Dance
DESCRIPTION:Event info\: https\://ortegariverclub.net/rsvpmaker/cloud-
 9-band-dance-2025-01-18/
END:VEVENT
END:VCALENDAR