BEGIN:VCALENDAR
VERSION:2.0
CALSCALE:GREGORIAN
PRODID:-//WordPress//RSVPMaker//EN
METHOD:REQUEST
BEGIN:VEVENT
DTSTAMP:20260420T173228Z
UID:7FFA844678E10A4551300DEDCBABB52D@rsvpmaker.com
SEQUENCE:0
STATUS:CONFIRMED
DTSTART:20250201T233000Z
DTEND:20250202T000000Z
LOCATION:See\: https\://ortegariverclub.net/rsvpmaker/class-act-band-d
 ance-2025-02-01/
SUMMARY:Class Act Band Dance
DESCRIPTION:Event info\: https\://ortegariverclub.net/rsvpmaker/class-
 act-band-dance-2025-02-01/
END:VEVENT
END:VCALENDAR