BEGIN:VCALENDAR
VERSION:2.0
CALSCALE:GREGORIAN
PRODID:-//WordPress//RSVPMaker//EN
METHOD:REQUEST
BEGIN:VEVENT
DTSTAMP:20260423T002109Z
UID:9F07F48CB91CAF26DC0E4D76CAAC2826@rsvpmaker.com
SEQUENCE:0
STATUS:CONFIRMED
DTSTART:20240504T223000Z
DTEND:20240504T230000Z
LOCATION:See\: https\://ortegariverclub.net/rsvpmaker/cinco-de-mayo-pa
 rty-and-dj-dance-2024-05-04/
SUMMARY:Cinco de Mayo Party and Southern Rukus Band Dance
DESCRIPTION:Event info\: https\://ortegariverclub.net/rsvpmaker/cinco-
 de-mayo-party-and-dj-dance-2024-05-04/
END:VEVENT
END:VCALENDAR