BEGIN:VCALENDAR
VERSION:2.0
CALSCALE:GREGORIAN
PRODID:-//WordPress//RSVPMaker//EN
METHOD:REQUEST
BEGIN:VEVENT
DTSTAMP:20260422T105631Z
UID:B4755BE9028ACF67416AB6D2ABF34D46@rsvpmaker.com
SEQUENCE:0
STATUS:CONFIRMED
DTSTART:20241214T220000Z
DTEND:20241215T000000Z
LOCATION:See\: https\://ortegariverclub.net/rsvpmaker/christmas-party-
 2024-12-14/
SUMMARY:Christmas Party
DESCRIPTION:Event info\: https\://ortegariverclub.net/rsvpmaker/christ
 mas-party-2024-12-14/
END:VEVENT
END:VCALENDAR