BEGIN:VCALENDAR
VERSION:2.0
CALSCALE:GREGORIAN
PRODID:-//WordPress//RSVPMaker//EN
METHOD:REQUEST
BEGIN:VEVENT
DTSTAMP:20260420T084608Z
UID:CB41662FE265CAD3FF1BAAB4DF37B9FA@rsvpmaker.com
SEQUENCE:0
STATUS:CONFIRMED
DTSTART:20250626T230000Z
DTEND:20250627T000000Z
LOCATION:See\: https\://ortegariverclub.net/rsvpmaker/canceled-west-co
 ast-swing-lessons-and-dance-2025-06-26/
SUMMARY:Canceled West Coast Swing Lessons and Dance
DESCRIPTION:Event info\: https\://ortegariverclub.net/rsvpmaker/cancel
 ed-west-coast-swing-lessons-and-dance-2025-06-26/
END:VEVENT
END:VCALENDAR