BEGIN:VCALENDAR
VERSION:2.0
CALSCALE:GREGORIAN
PRODID:-//WordPress//RSVPMaker//EN
METHOD:REQUEST
BEGIN:VEVENT
DTSTAMP:20260420T155625Z
UID:8AFF4D955CD8461E94156DE3C712B712@rsvpmaker.com
SEQUENCE:0
STATUS:CONFIRMED
DTSTART:20250329T220000Z
DTEND:20250329T233000Z
LOCATION:See\: https\://ortegariverclub.net/rsvpmaker/bob-and-pat-satu
 rday-night-dance-2025-03-29/
SUMMARY:Bob and Pat Saturday Night Dance
DESCRIPTION:Event info\: https\://ortegariverclub.net/rsvpmaker/bob-an
 d-pat-saturday-night-dance-2025-03-29/
END:VEVENT
END:VCALENDAR