BEGIN:VCALENDAR
VERSION:2.0
CALSCALE:GREGORIAN
PRODID:-//WordPress//RSVPMaker//EN
METHOD:REQUEST
BEGIN:VEVENT
DTSTAMP:20260422T095848Z
UID:9665DE2E7418849F980048E2BF816D30@rsvpmaker.com
SEQUENCE:0
STATUS:CONFIRMED
DTSTART:20260426T180000Z
DTEND:20260426T190000Z
LOCATION:See\: https\://ortegariverclub.net/rsvpmaker/ballroom-dance-2
 026-04-26/
SUMMARY:Ballroom Dance
DESCRIPTION:Event info\: https\://ortegariverclub.net/rsvpmaker/ballro
 om-dance-2026-04-26/
END:VEVENT
END:VCALENDAR