BEGIN:VCALENDAR
VERSION:2.0
CALSCALE:GREGORIAN
PRODID:-//WordPress//RSVPMaker//EN
METHOD:REQUEST
BEGIN:VEVENT
DTSTAMP:20260421T091150Z
UID:8464C6C8CFD2A9A230F1FD31FE7D162F@rsvpmaker.com
SEQUENCE:0
STATUS:CONFIRMED
DTSTART:20260322T180000Z
DTEND:20260322T190000Z
LOCATION:See\: https\://ortegariverclub.net/rsvpmaker/ballroom-dance-2
 026-03-22/
SUMMARY:Ballroom Dance
DESCRIPTION:Event info\: https\://ortegariverclub.net/rsvpmaker/ballro
 om-dance-2026-03-22/
END:VEVENT
END:VCALENDAR