BEGIN:VCALENDAR
VERSION:2.0
CALSCALE:GREGORIAN
PRODID:-//WordPress//RSVPMaker//EN
METHOD:REQUEST
BEGIN:VEVENT
DTSTAMP:20260421T084640Z
UID:3FA8502FFEB11E407C06CEE72B58398F@rsvpmaker.com
SEQUENCE:0
STATUS:CONFIRMED
DTSTART:20260308T180000Z
DTEND:20260308T190000Z
LOCATION:See\: https\://ortegariverclub.net/rsvpmaker/ballroom-dance-2
 026-03-08/
SUMMARY:Ballroom Dance
DESCRIPTION:Event info\: https\://ortegariverclub.net/rsvpmaker/ballro
 om-dance-2026-03-08/
END:VEVENT
END:VCALENDAR