BEGIN:VCALENDAR
VERSION:2.0
CALSCALE:GREGORIAN
PRODID:-//WordPress//RSVPMaker//EN
METHOD:REQUEST
BEGIN:VEVENT
DTSTAMP:20260420T085329Z
UID:33410819536EC64F62D77277C4AF5C66@rsvpmaker.com
SEQUENCE:0
STATUS:CONFIRMED
DTSTART:20250622T180000Z
DTEND:20250622T190000Z
LOCATION:See\: https\://ortegariverclub.net/rsvpmaker/ballroom-dance-2
 025-06-22/
SUMMARY:Ballroom Dance
DESCRIPTION:Event info\: https\://ortegariverclub.net/rsvpmaker/ballro
 om-dance-2025-06-22/
END:VEVENT
END:VCALENDAR